BEGIN:VCALENDAR
VERSION:2.0
PRODID:-//Pogotowie Ratunkowe Jelenia Góra - ECPv6.15.15//NONSGML v1.0//EN
CALSCALE:GREGORIAN
METHOD:PUBLISH
X-WR-CALNAME:Pogotowie Ratunkowe Jelenia Góra
X-ORIGINAL-URL:https://pogotowiejg.pl
X-WR-CALDESC:Wydarzenia dla Pogotowie Ratunkowe Jelenia Góra
REFRESH-INTERVAL;VALUE=DURATION:PT1H
X-Robots-Tag:noindex
X-PUBLISHED-TTL:PT1H
BEGIN:VTIMEZONE
TZID:UTC
BEGIN:STANDARD
TZOFFSETFROM:+0000
TZOFFSETTO:+0000
TZNAME:UTC
DTSTART:20250101T000000
END:STANDARD
END:VTIMEZONE
BEGIN:VEVENT
DTSTART;TZID=UTC:20260422T080000
DTEND;TZID=UTC:20260424T170000
DTSTAMP:20260420T000041
CREATED:20251031T111547Z
LAST-MODIFIED:20251031T111954Z
UID:8641-1776844800-1777050000@pogotowiejg.pl
SUMMARY:Chełm XLVI Konferencja ZPRM SP ZOZ
DESCRIPTION:XLVI Konferencja ZPRM SP ZOZ połączona ze Zwyczajnym Walnym Zgromadzeniem Członków ZPRM SP ZOZ Organizator Stacja Ratownictwa Medycznego w Chełmie
URL:https://pogotowiejg.pl/event/xlvi-konferencja-zprm-sp-zoz-w-chelmie/
END:VEVENT
END:VCALENDAR